BEGIN:VCALENDAR
VERSION:2.0
PRODID:-//Our Lady of Fatima - Norfolk - ECPv6.15.7//NONSGML v1.0//EN
CALSCALE:GREGORIAN
METHOD:PUBLISH
X-WR-CALNAME:Our Lady of Fatima - Norfolk
X-ORIGINAL-URL:https://nolf1.bhncdsb.ca
X-WR-CALDESC:Events for Our Lady of Fatima - Norfolk
REFRESH-INTERVAL;VALUE=DURATION:PT1H
X-Robots-Tag:noindex
X-PUBLISHED-TTL:PT1H
BEGIN:VTIMEZONE
TZID:America/Toronto
BEGIN:DAYLIGHT
TZOFFSETFROM:-0500
TZOFFSETTO:-0400
TZNAME:EDT
DTSTART:20250309T070000
END:DAYLIGHT
BEGIN:STANDARD
TZOFFSETFROM:-0400
TZOFFSETTO:-0500
TZNAME:EST
DTSTART:20251102T060000
END:STANDARD
BEGIN:DAYLIGHT
TZOFFSETFROM:-0500
TZOFFSETTO:-0400
TZNAME:EDT
DTSTART:20260308T070000
END:DAYLIGHT
BEGIN:STANDARD
TZOFFSETFROM:-0400
TZOFFSETTO:-0500
TZNAME:EST
DTSTART:20261101T060000
END:STANDARD
BEGIN:DAYLIGHT
TZOFFSETFROM:-0500
TZOFFSETTO:-0400
TZNAME:EDT
DTSTART:20270314T070000
END:DAYLIGHT
BEGIN:STANDARD
TZOFFSETFROM:-0400
TZOFFSETTO:-0500
TZNAME:EST
DTSTART:20271107T060000
END:STANDARD
END:VTIMEZONE
BEGIN:VEVENT
DTSTART;VALUE=DATE:20260407
DTEND;VALUE=DATE:20260408
DTSTAMP:20260422T055025
CREATED:20260401T141843Z
LAST-MODIFIED:20260401T141843Z
UID:250715-1775520000-1775606399@nolf1.bhncdsb.ca
SUMMARY:Volleyball Permission Forms Due on School Cash
DESCRIPTION:
URL:https://nolf1.bhncdsb.ca/event/volleyball-permission-forms-due-on-school-cash/
END:VEVENT
BEGIN:VEVENT
DTSTART;VALUE=DATE:20260407
DTEND;VALUE=DATE:20260408
DTSTAMP:20260422T055025
CREATED:20260401T142607Z
LAST-MODIFIED:20260401T142607Z
UID:250722-1775520000-1775606399@nolf1.bhncdsb.ca
SUMMARY:STEM
DESCRIPTION:
URL:https://nolf1.bhncdsb.ca/event/stem-20/
END:VEVENT
BEGIN:VEVENT
DTSTART;TZID=America/Toronto:20260407T124500
DTEND;TZID=America/Toronto:20260407T130500
DTSTAMP:20260422T055025
CREATED:20260401T144253Z
LAST-MODIFIED:20260401T144253Z
UID:250779-1775565900-1775567100@nolf1.bhncdsb.ca
SUMMARY:Kelsey's
DESCRIPTION:
URL:https://nolf1.bhncdsb.ca/event/kelseys-57/
END:VEVENT
END:VCALENDAR