BEGIN:VCALENDAR
VERSION:2.0
PRODID:-//Our Lady of Fatima - Norfolk - ECPv6.15.7//NONSGML v1.0//EN
CALSCALE:GREGORIAN
METHOD:PUBLISH
X-WR-CALNAME:Our Lady of Fatima - Norfolk
X-ORIGINAL-URL:https://nolf1.bhncdsb.ca
X-WR-CALDESC:Events for Our Lady of Fatima - Norfolk
REFRESH-INTERVAL;VALUE=DURATION:PT1H
X-Robots-Tag:noindex
X-PUBLISHED-TTL:PT1H
BEGIN:VTIMEZONE
TZID:America/Toronto
BEGIN:DAYLIGHT
TZOFFSETFROM:-0500
TZOFFSETTO:-0400
TZNAME:EDT
DTSTART:20240310T070000
END:DAYLIGHT
BEGIN:STANDARD
TZOFFSETFROM:-0400
TZOFFSETTO:-0500
TZNAME:EST
DTSTART:20241103T060000
END:STANDARD
BEGIN:DAYLIGHT
TZOFFSETFROM:-0500
TZOFFSETTO:-0400
TZNAME:EDT
DTSTART:20250309T070000
END:DAYLIGHT
BEGIN:STANDARD
TZOFFSETFROM:-0400
TZOFFSETTO:-0500
TZNAME:EST
DTSTART:20251102T060000
END:STANDARD
BEGIN:DAYLIGHT
TZOFFSETFROM:-0500
TZOFFSETTO:-0400
TZNAME:EDT
DTSTART:20260308T070000
END:DAYLIGHT
BEGIN:STANDARD
TZOFFSETFROM:-0400
TZOFFSETTO:-0500
TZNAME:EST
DTSTART:20261101T060000
END:STANDARD
END:VTIMEZONE
BEGIN:VEVENT
DTSTART;VALUE=DATE:20250324
DTEND;VALUE=DATE:20250325
DTSTAMP:20260419T104148
CREATED:20250304T192047Z
LAST-MODIFIED:20250304T192047Z
UID:249947-1742774400-1742860799@nolf1.bhncdsb.ca
SUMMARY:Spaghetti Lunch
DESCRIPTION:
URL:https://nolf1.bhncdsb.ca/event/spaghetti-lunch/
END:VEVENT
BEGIN:VEVENT
DTSTART;VALUE=DATE:20250321
DTEND;VALUE=DATE:20250322
DTSTAMP:20260419T104148
CREATED:20250304T192000Z
LAST-MODIFIED:20250304T192000Z
UID:249945-1742515200-1742601599@nolf1.bhncdsb.ca
SUMMARY:Camp Celtic 2nd Installment Due for Gr. 7/8
DESCRIPTION:
URL:https://nolf1.bhncdsb.ca/event/camp-celtic-2nd-installment-due-for-gr-7-8/
END:VEVENT
BEGIN:VEVENT
DTSTART;VALUE=DATE:20250321
DTEND;VALUE=DATE:20250322
DTSTAMP:20260419T104148
CREATED:20250304T191611Z
LAST-MODIFIED:20250304T193419Z
UID:249939-1742515200-1742601599@nolf1.bhncdsb.ca
SUMMARY:Book Fair
DESCRIPTION:
URL:https://nolf1.bhncdsb.ca/event/book-fair-3/
END:VEVENT
BEGIN:VEVENT
DTSTART;VALUE=DATE:20250320
DTEND;VALUE=DATE:20250321
DTSTAMP:20260419T104148
CREATED:20250304T191921Z
LAST-MODIFIED:20250304T191921Z
UID:249943-1742428800-1742515199@nolf1.bhncdsb.ca
SUMMARY:April Food Orders Due
DESCRIPTION:Kelsey’s\, Pizza and Milk Orders due at midnight
URL:https://nolf1.bhncdsb.ca/event/april-food-orders-due/
END:VEVENT
BEGIN:VEVENT
DTSTART;VALUE=DATE:20250320
DTEND;VALUE=DATE:20250321
DTSTAMP:20260419T104148
CREATED:20250304T191634Z
LAST-MODIFIED:20250304T191635Z
UID:249941-1742428800-1742515199@nolf1.bhncdsb.ca
SUMMARY:Pizza
DESCRIPTION:
URL:https://nolf1.bhncdsb.ca/event/pizza-17/
END:VEVENT
BEGIN:VEVENT
DTSTART;VALUE=DATE:20250320
DTEND;VALUE=DATE:20250321
DTSTAMP:20260419T104148
CREATED:20250304T191537Z
LAST-MODIFIED:20250304T191537Z
UID:249937-1742428800-1742515199@nolf1.bhncdsb.ca
SUMMARY:Book Fair
DESCRIPTION:
URL:https://nolf1.bhncdsb.ca/event/book-fair-2/
END:VEVENT
BEGIN:VEVENT
DTSTART;VALUE=DATE:20250319
DTEND;VALUE=DATE:20250320
DTSTAMP:20260419T104148
CREATED:20250304T191458Z
LAST-MODIFIED:20250304T191458Z
UID:249935-1742342400-1742428799@nolf1.bhncdsb.ca
SUMMARY:Book Fair
DESCRIPTION:
URL:https://nolf1.bhncdsb.ca/event/book-fair/
END:VEVENT
BEGIN:VEVENT
DTSTART;VALUE=DATE:20250318
DTEND;VALUE=DATE:20250319
DTSTAMP:20260419T104148
CREATED:20250304T191433Z
LAST-MODIFIED:20250304T191433Z
UID:249933-1742256000-1742342399@nolf1.bhncdsb.ca
SUMMARY:Kelseys
DESCRIPTION:
URL:https://nolf1.bhncdsb.ca/event/kelseys-17/
END:VEVENT
BEGIN:VEVENT
DTSTART;VALUE=DATE:20250317
DTEND;VALUE=DATE:20250318
DTSTAMP:20260419T104148
CREATED:20250304T191107Z
LAST-MODIFIED:20250304T191107Z
UID:249931-1742169600-1742255999@nolf1.bhncdsb.ca
SUMMARY:"Green" Egg Toasted Sandwiches
DESCRIPTION:
URL:https://nolf1.bhncdsb.ca/event/green-egg-toasted-sandwiches/
END:VEVENT
BEGIN:VEVENT
DTSTART;VALUE=DATE:20250310
DTEND;VALUE=DATE:20250315
DTSTAMP:20260419T104148
CREATED:20250304T191031Z
LAST-MODIFIED:20250304T191031Z
UID:249929-1741564800-1741996799@nolf1.bhncdsb.ca
SUMMARY:March Break March 10-14
DESCRIPTION:
URL:https://nolf1.bhncdsb.ca/event/march-break-march-10-14/
END:VEVENT
BEGIN:VEVENT
DTSTART;VALUE=DATE:20250307
DTEND;VALUE=DATE:20250308
DTSTAMP:20260419T104148
CREATED:20250304T190954Z
LAST-MODIFIED:20250304T190954Z
UID:249927-1741305600-1741391999@nolf1.bhncdsb.ca
SUMMARY:Kelseys
DESCRIPTION:
URL:https://nolf1.bhncdsb.ca/event/kelseys-16/
END:VEVENT
BEGIN:VEVENT
DTSTART;VALUE=DATE:20250306
DTEND;VALUE=DATE:20250307
DTSTAMP:20260419T104148
CREATED:20250304T190933Z
LAST-MODIFIED:20250304T190933Z
UID:249925-1741219200-1741305599@nolf1.bhncdsb.ca
SUMMARY:Pizza
DESCRIPTION:
URL:https://nolf1.bhncdsb.ca/event/pizza-16/
END:VEVENT
BEGIN:VEVENT
DTSTART;VALUE=DATE:20250305
DTEND;VALUE=DATE:20250306
DTSTAMP:20260419T104148
CREATED:20250304T190911Z
LAST-MODIFIED:20250304T192452Z
UID:249923-1741132800-1741219199@nolf1.bhncdsb.ca
SUMMARY:Ash Wednesday Liturgy at OLOF 11:15am
DESCRIPTION:
URL:https://nolf1.bhncdsb.ca/event/ash-wednesday-liturgy-at-olof-1115am/
END:VEVENT
BEGIN:VEVENT
DTSTART;VALUE=DATE:20250304
DTEND;VALUE=DATE:20250305
DTSTAMP:20260419T104148
CREATED:20250304T192520Z
LAST-MODIFIED:20250304T192520Z
UID:249955-1741046400-1741132799@nolf1.bhncdsb.ca
SUMMARY:Pancake Tuesday
DESCRIPTION:
URL:https://nolf1.bhncdsb.ca/event/pancake-tuesday/
END:VEVENT
BEGIN:VEVENT
DTSTART;VALUE=DATE:20250304
DTEND;VALUE=DATE:20250305
DTSTAMP:20260419T104148
CREATED:20250304T190828Z
LAST-MODIFIED:20250304T190828Z
UID:249921-1741046400-1741132799@nolf1.bhncdsb.ca
SUMMARY:STEM
DESCRIPTION:
URL:https://nolf1.bhncdsb.ca/event/stem-4/
END:VEVENT
BEGIN:VEVENT
DTSTART;VALUE=DATE:20250303
DTEND;VALUE=DATE:20250304
DTSTAMP:20260419T104148
CREATED:20250304T190806Z
LAST-MODIFIED:20250304T190806Z
UID:249919-1740960000-1741046399@nolf1.bhncdsb.ca
SUMMARY:STEM
DESCRIPTION:
URL:https://nolf1.bhncdsb.ca/event/stem-3/
END:VEVENT
BEGIN:VEVENT
DTSTART;VALUE=DATE:20250227
DTEND;VALUE=DATE:20250228
DTSTAMP:20260419T104148
CREATED:20250203T155532Z
LAST-MODIFIED:20250203T155532Z
UID:249848-1740614400-1740700799@nolf1.bhncdsb.ca
SUMMARY:Pizza
DESCRIPTION:
URL:https://nolf1.bhncdsb.ca/event/pizza-15/
END:VEVENT
BEGIN:VEVENT
DTSTART;VALUE=DATE:20250226
DTEND;VALUE=DATE:20250227
DTSTAMP:20260419T104148
CREATED:20250203T155511Z
LAST-MODIFIED:20250203T155511Z
UID:249846-1740528000-1740614399@nolf1.bhncdsb.ca
SUMMARY:Pink Shirt Day
DESCRIPTION:Take a stand against bullying and wear your PINK shirt today.
URL:https://nolf1.bhncdsb.ca/event/pink-shirt-day/
END:VEVENT
BEGIN:VEVENT
DTSTART;VALUE=DATE:20250225
DTEND;VALUE=DATE:20250226
DTSTAMP:20260419T104148
CREATED:20250203T155435Z
LAST-MODIFIED:20250203T155435Z
UID:249844-1740441600-1740527999@nolf1.bhncdsb.ca
SUMMARY:Kelsey's
DESCRIPTION:
URL:https://nolf1.bhncdsb.ca/event/kelseys-15/
END:VEVENT
BEGIN:VEVENT
DTSTART;VALUE=DATE:20250224
DTEND;VALUE=DATE:20250225
DTSTAMP:20260419T104148
CREATED:20250203T155412Z
LAST-MODIFIED:20250203T155412Z
UID:249842-1740355200-1740441599@nolf1.bhncdsb.ca
SUMMARY:Hotdog & Veggies Lunch
DESCRIPTION:
URL:https://nolf1.bhncdsb.ca/event/hotdog-veggies-lunch/
END:VEVENT
BEGIN:VEVENT
DTSTART;TZID=America/Toronto:20250221T093000
DTEND;TZID=America/Toronto:20250221T103000
DTSTAMP:20260419T104148
CREATED:20250203T155312Z
LAST-MODIFIED:20250203T160343Z
UID:249838-1740130200-1740133800@nolf1.bhncdsb.ca
SUMMARY:Skating at Delhi Arena Gr. 4-8
DESCRIPTION:Students in Grade 4 to 8 will be travelling by bus to the Delhi Arena today.  They will be skating from 9:30 am to 10:30 am.
URL:https://nolf1.bhncdsb.ca/event/skating-at-delhi-arena-gr-4-8/
END:VEVENT
BEGIN:VEVENT
DTSTART;VALUE=DATE:20250221
DTEND;VALUE=DATE:20250222
DTSTAMP:20260419T104148
CREATED:20250203T155335Z
LAST-MODIFIED:20250203T155335Z
UID:249840-1740096000-1740182399@nolf1.bhncdsb.ca
SUMMARY:March Food Orders Due
DESCRIPTION:
URL:https://nolf1.bhncdsb.ca/event/march-food-orders-due/
END:VEVENT
BEGIN:VEVENT
DTSTART;VALUE=DATE:20250220
DTEND;VALUE=DATE:20250221
DTSTAMP:20260419T104148
CREATED:20250203T155228Z
LAST-MODIFIED:20250203T155228Z
UID:249836-1740009600-1740095999@nolf1.bhncdsb.ca
SUMMARY:Pizza
DESCRIPTION:
URL:https://nolf1.bhncdsb.ca/event/pizza-14/
END:VEVENT
BEGIN:VEVENT
DTSTART;VALUE=DATE:20250218
DTEND;VALUE=DATE:20250219
DTSTAMP:20260419T104148
CREATED:20250203T155207Z
LAST-MODIFIED:20250203T155207Z
UID:249834-1739836800-1739923199@nolf1.bhncdsb.ca
SUMMARY:Kelsey's
DESCRIPTION:
URL:https://nolf1.bhncdsb.ca/event/kelseys-14/
END:VEVENT
BEGIN:VEVENT
DTSTART;VALUE=DATE:20250217
DTEND;VALUE=DATE:20250218
DTSTAMP:20260419T104148
CREATED:20250203T155147Z
LAST-MODIFIED:20250203T155147Z
UID:249832-1739750400-1739836799@nolf1.bhncdsb.ca
SUMMARY:Family Day - No School
DESCRIPTION:
URL:https://nolf1.bhncdsb.ca/event/family-day-no-school/
END:VEVENT
BEGIN:VEVENT
DTSTART;VALUE=DATE:20250214
DTEND;VALUE=DATE:20250215
DTSTAMP:20260419T104148
CREATED:20250203T155112Z
LAST-MODIFIED:20250203T155112Z
UID:249830-1739491200-1739577599@nolf1.bhncdsb.ca
SUMMARY:Wear Red/White/Pink
DESCRIPTION:
URL:https://nolf1.bhncdsb.ca/event/wear-red-white-pink/
END:VEVENT
BEGIN:VEVENT
DTSTART;VALUE=DATE:20250213
DTEND;VALUE=DATE:20250214
DTSTAMP:20260419T104148
CREATED:20250203T155032Z
LAST-MODIFIED:20250203T155032Z
UID:249828-1739404800-1739491199@nolf1.bhncdsb.ca
SUMMARY:Pizza
DESCRIPTION:
URL:https://nolf1.bhncdsb.ca/event/pizza-13/
END:VEVENT
BEGIN:VEVENT
DTSTART;VALUE=DATE:20250211
DTEND;VALUE=DATE:20250212
DTSTAMP:20260419T104148
CREATED:20250203T155010Z
LAST-MODIFIED:20250203T155010Z
UID:249825-1739232000-1739318399@nolf1.bhncdsb.ca
SUMMARY:STEM
DESCRIPTION:
URL:https://nolf1.bhncdsb.ca/event/stem-2/
END:VEVENT
BEGIN:VEVENT
DTSTART;VALUE=DATE:20250211
DTEND;VALUE=DATE:20250212
DTSTAMP:20260419T104148
CREATED:20250203T154952Z
LAST-MODIFIED:20250203T154952Z
UID:249823-1739232000-1739318399@nolf1.bhncdsb.ca
SUMMARY:Kelsey's
DESCRIPTION:
URL:https://nolf1.bhncdsb.ca/event/kelseys-13/
END:VEVENT
BEGIN:VEVENT
DTSTART;VALUE=DATE:20250210
DTEND;VALUE=DATE:20250211
DTSTAMP:20260419T104148
CREATED:20250203T154841Z
LAST-MODIFIED:20250203T154841Z
UID:249817-1739145600-1739231999@nolf1.bhncdsb.ca
SUMMARY:Report Cards sent home through email today.
DESCRIPTION:
URL:https://nolf1.bhncdsb.ca/event/report-cards-sent-home-through-email-today/
END:VEVENT
END:VCALENDAR