BEGIN:VCALENDAR
VERSION:2.0
PRODID:-//Our Lady of Fatima - Norfolk - ECPv6.15.7//NONSGML v1.0//EN
CALSCALE:GREGORIAN
METHOD:PUBLISH
X-WR-CALNAME:Our Lady of Fatima - Norfolk
X-ORIGINAL-URL:https://nolf1.bhncdsb.ca
X-WR-CALDESC:Events for Our Lady of Fatima - Norfolk
REFRESH-INTERVAL;VALUE=DURATION:PT1H
X-Robots-Tag:noindex
X-PUBLISHED-TTL:PT1H
BEGIN:VTIMEZONE
TZID:America/Toronto
BEGIN:DAYLIGHT
TZOFFSETFROM:-0500
TZOFFSETTO:-0400
TZNAME:EDT
DTSTART:20230312T070000
END:DAYLIGHT
BEGIN:STANDARD
TZOFFSETFROM:-0400
TZOFFSETTO:-0500
TZNAME:EST
DTSTART:20231105T060000
END:STANDARD
BEGIN:DAYLIGHT
TZOFFSETFROM:-0500
TZOFFSETTO:-0400
TZNAME:EDT
DTSTART:20240310T070000
END:DAYLIGHT
BEGIN:STANDARD
TZOFFSETFROM:-0400
TZOFFSETTO:-0500
TZNAME:EST
DTSTART:20241103T060000
END:STANDARD
BEGIN:DAYLIGHT
TZOFFSETFROM:-0500
TZOFFSETTO:-0400
TZNAME:EDT
DTSTART:20250309T070000
END:DAYLIGHT
BEGIN:STANDARD
TZOFFSETFROM:-0400
TZOFFSETTO:-0500
TZNAME:EST
DTSTART:20251102T060000
END:STANDARD
BEGIN:DAYLIGHT
TZOFFSETFROM:-0500
TZOFFSETTO:-0400
TZNAME:EDT
DTSTART:20260308T070000
END:DAYLIGHT
BEGIN:STANDARD
TZOFFSETFROM:-0400
TZOFFSETTO:-0500
TZNAME:EST
DTSTART:20261101T060000
END:STANDARD
END:VTIMEZONE
BEGIN:VEVENT
DTSTART;VALUE=DATE:20250131
DTEND;VALUE=DATE:20250201
DTSTAMP:20260419T152923
CREATED:20250106T185906Z
LAST-MODIFIED:20250106T185906Z
UID:249776-1738281600-1738367999@nolf1.bhncdsb.ca
SUMMARY:Basketball Tournament RAINDATE
DESCRIPTION:
URL:https://nolf1.bhncdsb.ca/event/basketball-tournament-raindate/
END:VEVENT
BEGIN:VEVENT
DTSTART;VALUE=DATE:20250130
DTEND;VALUE=DATE:20250131
DTSTAMP:20260419T152923
CREATED:20250106T185824Z
LAST-MODIFIED:20250106T185824Z
UID:249774-1738195200-1738281599@nolf1.bhncdsb.ca
SUMMARY:Pizza
DESCRIPTION:
URL:https://nolf1.bhncdsb.ca/event/pizza-11/
END:VEVENT
BEGIN:VEVENT
DTSTART;VALUE=DATE:20250129
DTEND;VALUE=DATE:20250130
DTSTAMP:20260419T152923
CREATED:20250106T185801Z
LAST-MODIFIED:20250106T185801Z
UID:249772-1738108800-1738195199@nolf1.bhncdsb.ca
SUMMARY:Basketball Tournament at Holy Trinity
DESCRIPTION:
URL:https://nolf1.bhncdsb.ca/event/basketball-tournament-at-holy-trinity/
END:VEVENT
BEGIN:VEVENT
DTSTART;VALUE=DATE:20250128
DTEND;VALUE=DATE:20250129
DTSTAMP:20260419T152923
CREATED:20250106T185727Z
LAST-MODIFIED:20250106T185727Z
UID:249770-1738022400-1738108799@nolf1.bhncdsb.ca
SUMMARY:Kelsey's
DESCRIPTION:
URL:https://nolf1.bhncdsb.ca/event/kelseys-11/
END:VEVENT
BEGIN:VEVENT
DTSTART;VALUE=DATE:20250127
DTEND;VALUE=DATE:20250128
DTSTAMP:20260419T152923
CREATED:20250106T185704Z
LAST-MODIFIED:20250106T185704Z
UID:249768-1737936000-1738022399@nolf1.bhncdsb.ca
SUMMARY:Camp Celtic Permission Forms Due on School Cash - Gr. 7/8
DESCRIPTION:
URL:https://nolf1.bhncdsb.ca/event/camp-celtic-permission-forms-due-on-school-cash-gr-7-8/
END:VEVENT
BEGIN:VEVENT
DTSTART;VALUE=DATE:20250123
DTEND;VALUE=DATE:20250124
DTSTAMP:20260419T152923
CREATED:20250106T185626Z
LAST-MODIFIED:20250106T185626Z
UID:249765-1737590400-1737676799@nolf1.bhncdsb.ca
SUMMARY:Basketball Team Permission Forms Due on School Cash
DESCRIPTION:
URL:https://nolf1.bhncdsb.ca/event/basketball-team-permission-forms-due-on-school-cash/
END:VEVENT
BEGIN:VEVENT
DTSTART;VALUE=DATE:20250123
DTEND;VALUE=DATE:20250124
DTSTAMP:20260419T152923
CREATED:20250106T185553Z
LAST-MODIFIED:20250106T185553Z
UID:249763-1737590400-1737676799@nolf1.bhncdsb.ca
SUMMARY:Pizza
DESCRIPTION:
URL:https://nolf1.bhncdsb.ca/event/pizza-10/
END:VEVENT
BEGIN:VEVENT
DTSTART;VALUE=DATE:20250122
DTEND;VALUE=DATE:20250123
DTSTAMP:20260419T152923
CREATED:20250106T184808Z
LAST-MODIFIED:20250106T184808Z
UID:249760-1737504000-1737590399@nolf1.bhncdsb.ca
SUMMARY:Feb. Lunch Orders Due on School Cash
DESCRIPTION:
URL:https://nolf1.bhncdsb.ca/event/feb-lunch-orders-due-on-school-cash/
END:VEVENT
BEGIN:VEVENT
DTSTART;VALUE=DATE:20250121
DTEND;VALUE=DATE:20250122
DTSTAMP:20260419T152923
CREATED:20250106T184736Z
LAST-MODIFIED:20250106T184736Z
UID:249758-1737417600-1737503999@nolf1.bhncdsb.ca
SUMMARY:Kelsey's
DESCRIPTION:
URL:https://nolf1.bhncdsb.ca/event/kelseys-10/
END:VEVENT
BEGIN:VEVENT
DTSTART;TZID=America/Toronto:20250120T080000
DTEND;TZID=America/Toronto:20250120T170000
DTSTAMP:20260419T152923
CREATED:20250106T170947Z
LAST-MODIFIED:20250106T170947Z
UID:249756-1737360000-1737392400@nolf1.bhncdsb.ca
SUMMARY:PA Day - No School
DESCRIPTION:
URL:https://nolf1.bhncdsb.ca/event/pa-day-no-school-2/
END:VEVENT
BEGIN:VEVENT
DTSTART;VALUE=DATE:20250116
DTEND;VALUE=DATE:20250117
DTSTAMP:20260419T152923
CREATED:20250106T170920Z
LAST-MODIFIED:20250106T170920Z
UID:249754-1736985600-1737071999@nolf1.bhncdsb.ca
SUMMARY:Pizza
DESCRIPTION:
URL:https://nolf1.bhncdsb.ca/event/pizza-9/
END:VEVENT
BEGIN:VEVENT
DTSTART;VALUE=DATE:20250114
DTEND;VALUE=DATE:20250115
DTSTAMP:20260419T152923
CREATED:20250106T170845Z
LAST-MODIFIED:20250106T170845Z
UID:249752-1736812800-1736899199@nolf1.bhncdsb.ca
SUMMARY:Kelsey's
DESCRIPTION:
URL:https://nolf1.bhncdsb.ca/event/kelseys-9/
END:VEVENT
BEGIN:VEVENT
DTSTART;VALUE=DATE:20250109
DTEND;VALUE=DATE:20250110
DTSTAMP:20260419T152923
CREATED:20250106T170817Z
LAST-MODIFIED:20250106T170817Z
UID:249750-1736380800-1736467199@nolf1.bhncdsb.ca
SUMMARY:Pizza
DESCRIPTION:
URL:https://nolf1.bhncdsb.ca/event/pizza-8/
END:VEVENT
BEGIN:VEVENT
DTSTART;VALUE=DATE:20250107
DTEND;VALUE=DATE:20250108
DTSTAMP:20260419T152923
CREATED:20250106T170753Z
LAST-MODIFIED:20250106T170753Z
UID:249748-1736208000-1736294399@nolf1.bhncdsb.ca
SUMMARY:Kelsey's
DESCRIPTION:
URL:https://nolf1.bhncdsb.ca/event/kelseys-8/
END:VEVENT
BEGIN:VEVENT
DTSTART;VALUE=DATE:20241223
DTEND;VALUE=DATE:20241224
DTSTAMP:20260419T152923
CREATED:20241203T151213Z
LAST-MODIFIED:20241203T151213Z
UID:249730-1734912000-1734998399@nolf1.bhncdsb.ca
SUMMARY:Christmas Vacation Begins
DESCRIPTION:
URL:https://nolf1.bhncdsb.ca/event/christmas-vacation-begins/
END:VEVENT
BEGIN:VEVENT
DTSTART;VALUE=DATE:20241220
DTEND;VALUE=DATE:20241221
DTSTAMP:20260419T152923
CREATED:20241203T150831Z
LAST-MODIFIED:20241203T150831Z
UID:249726-1734652800-1734739199@nolf1.bhncdsb.ca
SUMMARY:Christmas Sweater/Socks Day
DESCRIPTION:
URL:https://nolf1.bhncdsb.ca/event/christmas-sweater-socks-day/
END:VEVENT
BEGIN:VEVENT
DTSTART;VALUE=DATE:20241219
DTEND;VALUE=DATE:20241220
DTSTAMP:20260419T152923
CREATED:20241203T150655Z
LAST-MODIFIED:20241203T150655Z
UID:249723-1734566400-1734652799@nolf1.bhncdsb.ca
SUMMARY:Pizza
DESCRIPTION:
URL:https://nolf1.bhncdsb.ca/event/pizza-6/
END:VEVENT
BEGIN:VEVENT
DTSTART;TZID=America/Toronto:20241217T173000
DTEND;TZID=America/Toronto:20241217T193000
DTSTAMP:20260419T152923
CREATED:20241203T150612Z
LAST-MODIFIED:20241203T150612Z
UID:249719-1734456600-1734463800@nolf1.bhncdsb.ca
SUMMARY:Christmas Craft Night @ OLOF
DESCRIPTION:We invite all parents and students to join us at the school for a Christmas Craft Night.  There will be 4 craft stations set up.  You can choose to go to all 4 stations or as many as you wish.  We look forward to seeing everyone here.
URL:https://nolf1.bhncdsb.ca/event/christmas-craft-night-olof/
END:VEVENT
BEGIN:VEVENT
DTSTART;VALUE=DATE:20241217
DTEND;VALUE=DATE:20241218
DTSTAMP:20260419T152923
CREATED:20241203T150636Z
LAST-MODIFIED:20241203T150636Z
UID:249721-1734393600-1734479999@nolf1.bhncdsb.ca
SUMMARY:Kelsey's
DESCRIPTION:
URL:https://nolf1.bhncdsb.ca/event/kelseys-7/
END:VEVENT
BEGIN:VEVENT
DTSTART;VALUE=DATE:20241216
DTEND;VALUE=DATE:20241217
DTSTAMP:20260419T152923
CREATED:20241203T150122Z
LAST-MODIFIED:20241203T150123Z
UID:249716-1734307200-1734393599@nolf1.bhncdsb.ca
SUMMARY:Food Order Due Today for January
DESCRIPTION:
URL:https://nolf1.bhncdsb.ca/event/food-order-due-today-for-january/
END:VEVENT
BEGIN:VEVENT
DTSTART;VALUE=DATE:20241216
DTEND;VALUE=DATE:20241217
DTSTAMP:20260419T152923
CREATED:20241203T150056Z
LAST-MODIFIED:20241203T150056Z
UID:249714-1734307200-1734393599@nolf1.bhncdsb.ca
SUMMARY:Christmas Giving Campaign Ends
DESCRIPTION:We ask all gift items to be into the school by today at the latest for our 2 sponsored families for Christmas.  Thank you all for your continued support.
URL:https://nolf1.bhncdsb.ca/event/christmas-giving-campaign-ends/
END:VEVENT
BEGIN:VEVENT
DTSTART;VALUE=DATE:20241213
DTEND;VALUE=DATE:20241214
DTSTAMP:20260419T152923
CREATED:20241203T145545Z
LAST-MODIFIED:20241203T145545Z
UID:249710-1734048000-1734134399@nolf1.bhncdsb.ca
SUMMARY:Christmas Hat Day
DESCRIPTION:
URL:https://nolf1.bhncdsb.ca/event/christmas-hat-day/
END:VEVENT
BEGIN:VEVENT
DTSTART;VALUE=DATE:20241213
DTEND;VALUE=DATE:20241214
DTSTAMP:20260419T152923
CREATED:20241203T145455Z
LAST-MODIFIED:20241203T145521Z
UID:249707-1734048000-1734134399@nolf1.bhncdsb.ca
SUMMARY:Skilled Trades Trailer for Grades 6/7/8
DESCRIPTION:
URL:https://nolf1.bhncdsb.ca/event/pizza-5/
END:VEVENT
BEGIN:VEVENT
DTSTART;VALUE=DATE:20241212
DTEND;VALUE=DATE:20241213
DTSTAMP:20260419T152923
CREATED:20241203T150954Z
LAST-MODIFIED:20241203T150954Z
UID:249728-1733961600-1734047999@nolf1.bhncdsb.ca
SUMMARY:Pizza
DESCRIPTION:
URL:https://nolf1.bhncdsb.ca/event/pizza-7/
END:VEVENT
BEGIN:VEVENT
DTSTART;VALUE=DATE:20241211
DTEND;VALUE=DATE:20241212
DTSTAMP:20260419T152923
CREATED:20241203T145429Z
LAST-MODIFIED:20241203T145429Z
UID:249705-1733875200-1733961599@nolf1.bhncdsb.ca
SUMMARY:Christmas Lunch
DESCRIPTION:Thank you to our Parent Council for providing our students and staff with a Christmas Lunch catered by the Courtland Community Centre.
URL:https://nolf1.bhncdsb.ca/event/christmas-lunch/
END:VEVENT
BEGIN:VEVENT
DTSTART;VALUE=DATE:20241210
DTEND;VALUE=DATE:20241211
DTSTAMP:20260419T152923
CREATED:20241203T145111Z
LAST-MODIFIED:20241203T145111Z
UID:249703-1733788800-1733875199@nolf1.bhncdsb.ca
SUMMARY:Bus Safety Presentations - JK-3 1:45pm\, Gr. 4-8 2:30pm
DESCRIPTION:
URL:https://nolf1.bhncdsb.ca/event/bus-safety-presentations-jk-3-145pm-gr-4-8-230pm/
END:VEVENT
BEGIN:VEVENT
DTSTART;VALUE=DATE:20241210
DTEND;VALUE=DATE:20241211
DTSTAMP:20260419T152923
CREATED:20241203T145014Z
LAST-MODIFIED:20241203T145014Z
UID:249701-1733788800-1733875199@nolf1.bhncdsb.ca
SUMMARY:Kelsey's
DESCRIPTION:
URL:https://nolf1.bhncdsb.ca/event/kelseys-6/
END:VEVENT
BEGIN:VEVENT
DTSTART;VALUE=DATE:20241206
DTEND;VALUE=DATE:20241207
DTSTAMP:20260419T152923
CREATED:20241203T144949Z
LAST-MODIFIED:20241203T144949Z
UID:249699-1733443200-1733529599@nolf1.bhncdsb.ca
SUMMARY:Red/Green/Bell Day
DESCRIPTION:
URL:https://nolf1.bhncdsb.ca/event/red-green-bell-day/
END:VEVENT
BEGIN:VEVENT
DTSTART;VALUE=DATE:20241205
DTEND;VALUE=DATE:20241206
DTSTAMP:20260419T152923
CREATED:20241203T144920Z
LAST-MODIFIED:20241203T144920Z
UID:249697-1733356800-1733443199@nolf1.bhncdsb.ca
SUMMARY:Pizza
DESCRIPTION:
URL:https://nolf1.bhncdsb.ca/event/pizza-3/
END:VEVENT
BEGIN:VEVENT
DTSTART;TZID=America/Toronto:20241204T120000
DTEND;TZID=America/Toronto:20241204T130000
DTSTAMP:20260419T152923
CREATED:20241203T144832Z
LAST-MODIFIED:20241203T144832Z
UID:249692-1733313600-1733317200@nolf1.bhncdsb.ca
SUMMARY:Roots of Empathy-Gr. 6/7/8 12pm
DESCRIPTION:
URL:https://nolf1.bhncdsb.ca/event/roots-of-empathy-gr-6-7-8-12pm/
END:VEVENT
END:VCALENDAR