BEGIN:VCALENDAR
VERSION:2.0
PRODID:-//Our Lady of Fatima - Norfolk - ECPv6.15.7//NONSGML v1.0//EN
CALSCALE:GREGORIAN
METHOD:PUBLISH
X-WR-CALNAME:Our Lady of Fatima - Norfolk
X-ORIGINAL-URL:https://nolf1.bhncdsb.ca
X-WR-CALDESC:Events for Our Lady of Fatima - Norfolk
REFRESH-INTERVAL;VALUE=DURATION:PT1H
X-Robots-Tag:noindex
X-PUBLISHED-TTL:PT1H
BEGIN:VTIMEZONE
TZID:America/Toronto
BEGIN:DAYLIGHT
TZOFFSETFROM:-0500
TZOFFSETTO:-0400
TZNAME:EDT
DTSTART:20230312T070000
END:DAYLIGHT
BEGIN:STANDARD
TZOFFSETFROM:-0400
TZOFFSETTO:-0500
TZNAME:EST
DTSTART:20231105T060000
END:STANDARD
BEGIN:DAYLIGHT
TZOFFSETFROM:-0500
TZOFFSETTO:-0400
TZNAME:EDT
DTSTART:20240310T070000
END:DAYLIGHT
BEGIN:STANDARD
TZOFFSETFROM:-0400
TZOFFSETTO:-0500
TZNAME:EST
DTSTART:20241103T060000
END:STANDARD
BEGIN:DAYLIGHT
TZOFFSETFROM:-0500
TZOFFSETTO:-0400
TZNAME:EDT
DTSTART:20250309T070000
END:DAYLIGHT
BEGIN:STANDARD
TZOFFSETFROM:-0400
TZOFFSETTO:-0500
TZNAME:EST
DTSTART:20251102T060000
END:STANDARD
END:VTIMEZONE
BEGIN:VEVENT
DTSTART;VALUE=DATE:20241121
DTEND;VALUE=DATE:20241122
DTSTAMP:20260419T200708
CREATED:20241030T165616Z
LAST-MODIFIED:20241030T165616Z
UID:249648-1732147200-1732233599@nolf1.bhncdsb.ca
SUMMARY:Pizza
DESCRIPTION:
URL:https://nolf1.bhncdsb.ca/event/pizza-2/
END:VEVENT
BEGIN:VEVENT
DTSTART;VALUE=DATE:20241119
DTEND;VALUE=DATE:20241120
DTSTAMP:20260419T200708
CREATED:20241030T165537Z
LAST-MODIFIED:20241030T165537Z
UID:249646-1731974400-1732060799@nolf1.bhncdsb.ca
SUMMARY:Kelseys
DESCRIPTION:
URL:https://nolf1.bhncdsb.ca/event/kelseys-3/
END:VEVENT
BEGIN:VEVENT
DTSTART;TZID=America/Toronto:20241115T090000
DTEND;TZID=America/Toronto:20241115T120000
DTSTAMP:20260419T200708
CREATED:20241030T165453Z
LAST-MODIFIED:20241030T165453Z
UID:249642-1731661200-1731672000@nolf1.bhncdsb.ca
SUMMARY:Parent Teacher Interviews
DESCRIPTION:Parent Teacher Interview will take place today from 9:00 am to 12 noon.  You would have received a link via email to book your interview through our online booking system.
URL:https://nolf1.bhncdsb.ca/event/parent-teacher-interviews-2/
END:VEVENT
BEGIN:VEVENT
DTSTART;VALUE=DATE:20241115
DTEND;VALUE=DATE:20241116
DTSTAMP:20260419T200708
CREATED:20241030T165517Z
LAST-MODIFIED:20241030T165517Z
UID:249644-1731628800-1731715199@nolf1.bhncdsb.ca
SUMMARY:PA Day - No school
DESCRIPTION:
URL:https://nolf1.bhncdsb.ca/event/pa-day-no-school/
END:VEVENT
BEGIN:VEVENT
DTSTART;TZID=America/Toronto:20241114T160000
DTEND;TZID=America/Toronto:20241114T190000
DTSTAMP:20260419T200708
CREATED:20241030T165339Z
LAST-MODIFIED:20241030T165339Z
UID:249640-1731600000-1731610800@nolf1.bhncdsb.ca
SUMMARY:Parent Teacher Interviews
DESCRIPTION:Parent Teacher Interviews will take place from 4pm to 7pm.  You would have received a link via email to book your interview through our online booking system.
URL:https://nolf1.bhncdsb.ca/event/parent-teacher-interviews/
END:VEVENT
BEGIN:VEVENT
DTSTART;VALUE=DATE:20241114
DTEND;VALUE=DATE:20241115
DTSTAMP:20260419T200708
CREATED:20241030T170343Z
LAST-MODIFIED:20241030T170343Z
UID:249660-1731542400-1731628799@nolf1.bhncdsb.ca
SUMMARY:Pizza
DESCRIPTION:
URL:https://nolf1.bhncdsb.ca/event/pizza-4/
END:VEVENT
BEGIN:VEVENT
DTSTART;VALUE=DATE:20241114
DTEND;VALUE=DATE:20241115
DTSTAMP:20260419T200708
CREATED:20241030T165130Z
LAST-MODIFIED:20241030T165130Z
UID:249638-1731542400-1731628799@nolf1.bhncdsb.ca
SUMMARY:Dental Screening
DESCRIPTION:The Haldimand Norfolk Health Unit will be finishing up their Dental Screening today if needed.
URL:https://nolf1.bhncdsb.ca/event/dental-screening/
END:VEVENT
BEGIN:VEVENT
DTSTART;VALUE=DATE:20241113
DTEND;VALUE=DATE:20241114
DTSTAMP:20260419T200708
CREATED:20241030T165047Z
LAST-MODIFIED:20241030T165202Z
UID:249636-1731456000-1731542399@nolf1.bhncdsb.ca
SUMMARY:Vision/Dental Screening
DESCRIPTION:The Haldimand-Norfolk Health Unit will be visiting our school on this date.  Vision Screening will be for SK students only.  Dental screening is for JK\, SK and Grade 2’s as well as some selected students in other grades.
URL:https://nolf1.bhncdsb.ca/event/vision-dental-screening/
END:VEVENT
BEGIN:VEVENT
DTSTART;VALUE=DATE:20241112
DTEND;VALUE=DATE:20241113
DTSTAMP:20260419T200708
CREATED:20241030T161032Z
LAST-MODIFIED:20241030T161032Z
UID:249632-1731369600-1731455999@nolf1.bhncdsb.ca
SUMMARY:Kelseys
DESCRIPTION:
URL:https://nolf1.bhncdsb.ca/event/kelseys-2/
END:VEVENT
BEGIN:VEVENT
DTSTART;TZID=America/Toronto:20241111T104500
DTEND;TZID=America/Toronto:20241111T111500
DTSTAMP:20260419T200708
CREATED:20241030T160737Z
LAST-MODIFIED:20241030T160737Z
UID:249630-1731321900-1731323700@nolf1.bhncdsb.ca
SUMMARY:Remembrance Day Liturgy
DESCRIPTION:ALL FAMILIES ARE WELCOME TO ATTEND!
URL:https://nolf1.bhncdsb.ca/event/remembrance-day-liturgy/
END:VEVENT
BEGIN:VEVENT
DTSTART;VALUE=DATE:20241107
DTEND;VALUE=DATE:20241108
DTSTAMP:20260419T200708
CREATED:20241030T170238Z
LAST-MODIFIED:20241030T170238Z
UID:249658-1730937600-1731023999@nolf1.bhncdsb.ca
SUMMARY:Pizza
DESCRIPTION:
URL:https://nolf1.bhncdsb.ca/event/pizza/
END:VEVENT
BEGIN:VEVENT
DTSTART;VALUE=DATE:20241107
DTEND;VALUE=DATE:20241108
DTSTAMP:20260419T200708
CREATED:20241030T160602Z
LAST-MODIFIED:20241030T160602Z
UID:249628-1730937600-1731023999@nolf1.bhncdsb.ca
SUMMARY:Dairy Presentations
DESCRIPTION:
URL:https://nolf1.bhncdsb.ca/event/dairy-presentations/
END:VEVENT
BEGIN:VEVENT
DTSTART;VALUE=DATE:20241107
DTEND;VALUE=DATE:20241108
DTSTAMP:20260419T200708
CREATED:20241030T160535Z
LAST-MODIFIED:20241030T160535Z
UID:249626-1730937600-1731023999@nolf1.bhncdsb.ca
SUMMARY:Grade 8's to Holy Trinity
DESCRIPTION:
URL:https://nolf1.bhncdsb.ca/event/grade-8s-to-holy-trinity/
END:VEVENT
BEGIN:VEVENT
DTSTART;VALUE=DATE:20241105
DTEND;VALUE=DATE:20241106
DTSTAMP:20260419T200708
CREATED:20241030T154648Z
LAST-MODIFIED:20241030T154648Z
UID:249622-1730764800-1730851199@nolf1.bhncdsb.ca
SUMMARY:Kelseys
DESCRIPTION:
URL:https://nolf1.bhncdsb.ca/event/kelseys/
END:VEVENT
BEGIN:VEVENT
DTSTART;TZID=America/Toronto:20241102T180000
DTEND;TZID=America/Toronto:20241102T180000
DTSTAMP:20260419T200708
CREATED:20241003T174749Z
LAST-MODIFIED:20241003T174749Z
UID:249504-1730570400-1730570400@nolf1.bhncdsb.ca
SUMMARY:Turkey Bingo
DESCRIPTION:Courtland Community Centre \nDoors open at 6pm\, Bingo starts at 7pm \nFree Admission ~ Food ~ Door Prizes ~ Cash Prizes ~ Bazaar Mystery Prizes ~ Share the Wealth ~ Winner Takes All \nThis is our biggest fundraiser of the year! \nMust be 18 years old to attend or volunteer. \nAll Welcome!
URL:https://nolf1.bhncdsb.ca/event/turkey-bingo/
LOCATION:Courtland Community Centre\, 272 Main Street\, Courtland\, Ontario\, N0J 1E0\, Canada
END:VEVENT
BEGIN:VEVENT
DTSTART;TZID=America/Toronto:20241031T123000
DTEND;TZID=America/Toronto:20241031T123000
DTSTAMP:20260419T200708
CREATED:20241009T160428Z
LAST-MODIFIED:20241009T170211Z
UID:249575-1730377800-1730377800@nolf1.bhncdsb.ca
SUMMARY:Pizza Day
DESCRIPTION:
URL:https://nolf1.bhncdsb.ca/event/pizza-day-4/
END:VEVENT
BEGIN:VEVENT
DTSTART;TZID=America/Toronto:20241030T093000
DTEND;TZID=America/Toronto:20241030T093000
DTSTAMP:20260419T200708
CREATED:20241009T165950Z
LAST-MODIFIED:20241009T170118Z
UID:249594-1730280600-1730280600@nolf1.bhncdsb.ca
SUMMARY:Walking Trip to Caressant Care Nursing Home - Gr. 4/5
DESCRIPTION:Students in Gr. 4/5 will be walking to Caressant Care Nursing Home to paint pumpkins with their residents.
URL:https://nolf1.bhncdsb.ca/event/walking-trip-to-caressant-care-nursing-home-gr-4-5/
END:VEVENT
BEGIN:VEVENT
DTSTART;TZID=America/Toronto:20241029T123000
DTEND;TZID=America/Toronto:20241029T123000
DTSTAMP:20260419T200708
CREATED:20241009T160619Z
LAST-MODIFIED:20241009T165746Z
UID:249581-1730205000-1730205000@nolf1.bhncdsb.ca
SUMMARY:Kelsey's Lunch
DESCRIPTION:
URL:https://nolf1.bhncdsb.ca/event/kelseys-lunch-3/
END:VEVENT
BEGIN:VEVENT
DTSTART;VALUE=DATE:20241025
DTEND;VALUE=DATE:20241026
DTSTAMP:20260419T200708
CREATED:20241009T143235Z
LAST-MODIFIED:20241009T143235Z
UID:249562-1729814400-1729900799@nolf1.bhncdsb.ca
SUMMARY:Dress Purple Day
DESCRIPTION:Please wear Purple today to show awareness about the importance of supporting vulnerable children\, youth\, and families.
URL:https://nolf1.bhncdsb.ca/event/dress-purple-day/
END:VEVENT
BEGIN:VEVENT
DTSTART;TZID=America/Toronto:20241025T000000
DTEND;TZID=America/Toronto:20241025T000000
DTSTAMP:20260419T200708
CREATED:20241009T165701Z
LAST-MODIFIED:20241009T165701Z
UID:249592-1729814400-1729814400@nolf1.bhncdsb.ca
SUMMARY:Permission Forms Due for Caressant Care Field Trip - Gr. 4/5
DESCRIPTION:Permission forms are due on School Cash at midnight for students in the Gr. 4/5 class to walk to Caressant Care Nursing Home to paint pumpkins with their residents on Oct. 30.
URL:https://nolf1.bhncdsb.ca/event/permission-forms-due-for-caressant-care-field-trip-gr-4-5/
END:VEVENT
BEGIN:VEVENT
DTSTART;VALUE=DATE:20241024
DTEND;VALUE=DATE:20241025
DTSTAMP:20260419T200708
CREATED:20241007T173846Z
LAST-MODIFIED:20241007T173846Z
UID:249537-1729728000-1729814399@nolf1.bhncdsb.ca
SUMMARY:Lunch Orders Due for November for Kelsey's\, Pizza and Milk
DESCRIPTION:
URL:https://nolf1.bhncdsb.ca/event/lunch-orders-due-for-november-for-kelseys-pizza-and-milk/
END:VEVENT
BEGIN:VEVENT
DTSTART;TZID=America/Toronto:20241023T093000
DTEND;TZID=America/Toronto:20241023T140000
DTSTAMP:20260419T200708
CREATED:20241004T192308Z
LAST-MODIFIED:20241009T142300Z
UID:249533-1729675800-1729692000@nolf1.bhncdsb.ca
SUMMARY:Cross Country
DESCRIPTION:Cross Country Meet will he held at the Waterford Train Station Wednesday\, October 23.  Rain date is Friday\, October 25.  Go Bulldogs!
URL:https://nolf1.bhncdsb.ca/event/cross-country/
LOCATION:Waterford Train Station
END:VEVENT
BEGIN:VEVENT
DTSTART;TZID=America/Toronto:20241022T123000
DTEND;TZID=America/Toronto:20241022T123000
DTSTAMP:20260419T200708
CREATED:20241009T160548Z
LAST-MODIFIED:20241009T165343Z
UID:249579-1729600200-1729600200@nolf1.bhncdsb.ca
SUMMARY:Kelsey's Lunch
DESCRIPTION:
URL:https://nolf1.bhncdsb.ca/event/kelseys-lunch-2/
END:VEVENT
BEGIN:VEVENT
DTSTART;TZID=America/Toronto:20241021T090000
DTEND;TZID=America/Toronto:20241021T090000
DTSTAMP:20260419T200708
CREATED:20241009T160747Z
LAST-MODIFIED:20241009T160808Z
UID:249583-1729501200-1729501200@nolf1.bhncdsb.ca
SUMMARY:Immunizations - Gr. 7
DESCRIPTION:If you would like your child to be vaccinated\, please ensure that your permission forms are handed into the office before Oct. 21. These came home as a paper copy.
URL:https://nolf1.bhncdsb.ca/event/immunizations-gr-7/
END:VEVENT
BEGIN:VEVENT
DTSTART;TZID=America/Toronto:20241018T090000
DTEND;TZID=America/Toronto:20241018T143000
DTSTAMP:20260419T200708
CREATED:20241009T150034Z
LAST-MODIFIED:20241009T150034Z
UID:249569-1729242000-1729261800@nolf1.bhncdsb.ca
SUMMARY:Trip to Backus Mill Gr. 1/2/3
DESCRIPTION:Our Grade 1/2/3 class will be travelling by bus to Backus Mill on Wednesday\, October 18.  Please make sure to go on School Cash to sign the permission form before Oct. 15.
URL:https://nolf1.bhncdsb.ca/event/trip-to-backus-mill-gr-1-2-3/
END:VEVENT
BEGIN:VEVENT
DTSTART;TZID=America/Toronto:20241017T180000
DTEND;TZID=America/Toronto:20241017T180000
DTSTAMP:20260419T200708
CREATED:20241007T174024Z
LAST-MODIFIED:20241010T172144Z
UID:249553-1729188000-1729188000@nolf1.bhncdsb.ca
SUMMARY:Parent Council Meeting
DESCRIPTION:Parent Council Meeting/Turkey Bingo Committee Meeting will be held Oct. 17 at 6pm at OLOF.  If you are unable to attend in person but would like to join virtually\, please contact Mr. Persia to obtain a link to the meeting.
URL:https://nolf1.bhncdsb.ca/event/parent-council-meeting/
END:VEVENT
BEGIN:VEVENT
DTSTART;TZID=America/Toronto:20241017T123000
DTEND;TZID=America/Toronto:20241017T123000
DTSTAMP:20260419T200708
CREATED:20241009T155513Z
LAST-MODIFIED:20241009T160302Z
UID:249571-1729168200-1729168200@nolf1.bhncdsb.ca
SUMMARY:Pizza Day
DESCRIPTION:
URL:https://nolf1.bhncdsb.ca/event/pizza-day-2/
END:VEVENT
BEGIN:VEVENT
DTSTART;VALUE=DATE:20241015
DTEND;VALUE=DATE:20241016
DTSTAMP:20260419T200708
CREATED:20241009T161207Z
LAST-MODIFIED:20241009T161207Z
UID:249587-1728950400-1729036799@nolf1.bhncdsb.ca
SUMMARY:Permission  Forms for Backus Mill Due - Gr. 1/2/3
DESCRIPTION:Permission Forms are due on School Cash at midnight for the Gr. 1/2/3 students in Mrs. Hartwell’s class for the Backus Mill trip taking place on Oct. 18.
URL:https://nolf1.bhncdsb.ca/event/permission-forms-for-backus-mill-due-gr-1-2-3/
END:VEVENT
BEGIN:VEVENT
DTSTART;TZID=America/Toronto:20241014T000000
DTEND;TZID=America/Toronto:20241014T000000
DTSTAMP:20260419T200708
CREATED:20241009T161000Z
LAST-MODIFIED:20241009T161000Z
UID:249585-1728864000-1728864000@nolf1.bhncdsb.ca
SUMMARY:Permission Forms for Delhi Tobacco Museum Trip Due - Gr. 4-8
DESCRIPTION:Permission forms for the Grade 4-8 Trip to the Delhi Tobacco Museum are due Oct. 14 at midnight on School Cash. \n 
URL:https://nolf1.bhncdsb.ca/event/permission-forms-for-delhi-tobacco-museum-trip-due-gr-4-8/
END:VEVENT
BEGIN:VEVENT
DTSTART;TZID=America/Toronto:20241011T090000
DTEND;TZID=America/Toronto:20241011T090000
DTSTAMP:20260419T200708
CREATED:20241004T182731Z
LAST-MODIFIED:20241010T172003Z
UID:249522-1728637200-1728637200@nolf1.bhncdsb.ca
SUMMARY:Picture Day
DESCRIPTION:Edge Imaging will be at the school to take individual photos of each student as well as a group classroom photo.  Don’t forget to smile! \nRetake Day will be Thursday\, November 21. \n 
URL:https://nolf1.bhncdsb.ca/event/picture-day/
LOCATION:Our Lady of Fatima School
ATTACH;FMTTYPE=application/pdf:https://nolf1.bhncdsb.ca/wp-content/uploads/sites/9/2024/10/Edge-Imaging-Photo-Day-Reminder-1.pdf
END:VEVENT
END:VCALENDAR