BEGIN:VCALENDAR
VERSION:2.0
PRODID:-//Our Lady of Fatima - Norfolk - ECPv6.15.7//NONSGML v1.0//EN
CALSCALE:GREGORIAN
METHOD:PUBLISH
X-WR-CALNAME:Our Lady of Fatima - Norfolk
X-ORIGINAL-URL:https://nolf1.bhncdsb.ca
X-WR-CALDESC:Events for Our Lady of Fatima - Norfolk
REFRESH-INTERVAL;VALUE=DURATION:PT1H
X-Robots-Tag:noindex
X-PUBLISHED-TTL:PT1H
BEGIN:VTIMEZONE
TZID:America/Toronto
BEGIN:DAYLIGHT
TZOFFSETFROM:-0500
TZOFFSETTO:-0400
TZNAME:EDT
DTSTART:20240310T070000
END:DAYLIGHT
BEGIN:STANDARD
TZOFFSETFROM:-0400
TZOFFSETTO:-0500
TZNAME:EST
DTSTART:20241103T060000
END:STANDARD
BEGIN:DAYLIGHT
TZOFFSETFROM:-0500
TZOFFSETTO:-0400
TZNAME:EDT
DTSTART:20250309T070000
END:DAYLIGHT
BEGIN:STANDARD
TZOFFSETFROM:-0400
TZOFFSETTO:-0500
TZNAME:EST
DTSTART:20251102T060000
END:STANDARD
BEGIN:DAYLIGHT
TZOFFSETFROM:-0500
TZOFFSETTO:-0400
TZNAME:EDT
DTSTART:20260308T070000
END:DAYLIGHT
BEGIN:STANDARD
TZOFFSETFROM:-0400
TZOFFSETTO:-0500
TZNAME:EST
DTSTART:20261101T060000
END:STANDARD
BEGIN:DAYLIGHT
TZOFFSETFROM:-0500
TZOFFSETTO:-0400
TZNAME:EDT
DTSTART:20270314T070000
END:DAYLIGHT
BEGIN:STANDARD
TZOFFSETFROM:-0400
TZOFFSETTO:-0500
TZNAME:EST
DTSTART:20271107T060000
END:STANDARD
END:VTIMEZONE
BEGIN:VEVENT
DTSTART;TZID=America/Toronto:20260113T124500
DTEND;TZID=America/Toronto:20260113T130500
DTSTAMP:20260422T180407
CREATED:20260107T185511Z
LAST-MODIFIED:20260107T185511Z
UID:250498-1768308300-1768309500@nolf1.bhncdsb.ca
SUMMARY:Kelsey's
DESCRIPTION:
URL:https://nolf1.bhncdsb.ca/event/kelseys-44/
END:VEVENT
BEGIN:VEVENT
DTSTART;VALUE=DATE:20260113
DTEND;VALUE=DATE:20260114
DTSTAMP:20260422T180407
CREATED:20260107T185542Z
LAST-MODIFIED:20260107T190421Z
UID:250500-1768262400-1768348799@nolf1.bhncdsb.ca
SUMMARY:Crazy Hair Day
DESCRIPTION:
URL:https://nolf1.bhncdsb.ca/event/crazy-hair-day/
END:VEVENT
BEGIN:VEVENT
DTSTART;TZID=America/Toronto:20260112T124500
DTEND;TZID=America/Toronto:20260112T130500
DTSTAMP:20260422T180407
CREATED:20260107T185435Z
LAST-MODIFIED:20260107T185435Z
UID:250496-1768221900-1768223100@nolf1.bhncdsb.ca
SUMMARY:Soup/Chili Lunch
DESCRIPTION:
URL:https://nolf1.bhncdsb.ca/event/soup-chili-lunch/
END:VEVENT
BEGIN:VEVENT
DTSTART;VALUE=DATE:20260112
DTEND;VALUE=DATE:20260113
DTSTAMP:20260422T180407
CREATED:20260107T185851Z
LAST-MODIFIED:20260107T185851Z
UID:250512-1768176000-1768262399@nolf1.bhncdsb.ca
SUMMARY:Winter Colouring Contest Starts
DESCRIPTION:
URL:https://nolf1.bhncdsb.ca/event/winter-colouring-contest-starts/
END:VEVENT
BEGIN:VEVENT
DTSTART;TZID=America/Toronto:20260108T124500
DTEND;TZID=America/Toronto:20260108T130500
DTSTAMP:20260422T180407
CREATED:20260107T185402Z
LAST-MODIFIED:20260107T185402Z
UID:250494-1767876300-1767877500@nolf1.bhncdsb.ca
SUMMARY:Pizza
DESCRIPTION:
URL:https://nolf1.bhncdsb.ca/event/pizza-46/
END:VEVENT
BEGIN:VEVENT
DTSTART;TZID=America/Toronto:20260106T124500
DTEND;TZID=America/Toronto:20260106T130500
DTSTAMP:20260422T180407
CREATED:20260107T185306Z
LAST-MODIFIED:20260107T185306Z
UID:250492-1767703500-1767704700@nolf1.bhncdsb.ca
SUMMARY:Kelsey's
DESCRIPTION:
URL:https://nolf1.bhncdsb.ca/event/kelseys-43/
END:VEVENT
BEGIN:VEVENT
DTSTART;TZID=America/Toronto:20260105T124500
DTEND;TZID=America/Toronto:20260105T130500
DTSTAMP:20260422T180407
CREATED:20260107T185210Z
LAST-MODIFIED:20260107T185210Z
UID:250490-1767617100-1767618300@nolf1.bhncdsb.ca
SUMMARY:Spaghetti Lunch
DESCRIPTION:
URL:https://nolf1.bhncdsb.ca/event/spaghetti-lunch-12/
END:VEVENT
BEGIN:VEVENT
DTSTART;TZID=America/Toronto:20251219T133000
DTEND;TZID=America/Toronto:20251219T150000
DTSTAMP:20260422T180407
CREATED:20251126T191007Z
LAST-MODIFIED:20251126T191007Z
UID:250461-1766151000-1766156400@nolf1.bhncdsb.ca
SUMMARY:Christmas Movie Day
DESCRIPTION:
URL:https://nolf1.bhncdsb.ca/event/christmas-movie-day/
END:VEVENT
BEGIN:VEVENT
DTSTART;TZID=America/Toronto:20251219T110000
DTEND;TZID=America/Toronto:20251219T113000
DTSTAMP:20260422T180407
CREATED:20251126T191047Z
LAST-MODIFIED:20251126T191047Z
UID:250463-1766142000-1766143800@nolf1.bhncdsb.ca
SUMMARY:Month End Assembly
DESCRIPTION:
URL:https://nolf1.bhncdsb.ca/event/month-end-assembly-3/
END:VEVENT
BEGIN:VEVENT
DTSTART;VALUE=DATE:20251219
DTEND;VALUE=DATE:20251220
DTSTAMP:20260422T180407
CREATED:20251126T190921Z
LAST-MODIFIED:20251126T190921Z
UID:250459-1766102400-1766188799@nolf1.bhncdsb.ca
SUMMARY:Christmas PJ Day
DESCRIPTION:
URL:https://nolf1.bhncdsb.ca/event/christmas-pj-day/
END:VEVENT
BEGIN:VEVENT
DTSTART;TZID=America/Toronto:20251218T123000
DTEND;TZID=America/Toronto:20251218T130000
DTSTAMP:20260422T180407
CREATED:20251126T190850Z
LAST-MODIFIED:20251126T190850Z
UID:250457-1766061000-1766062800@nolf1.bhncdsb.ca
SUMMARY:Pizza
DESCRIPTION:
URL:https://nolf1.bhncdsb.ca/event/pizza-44/
END:VEVENT
BEGIN:VEVENT
DTSTART;VALUE=DATE:20251218
DTEND;VALUE=DATE:20251219
DTSTAMP:20260422T180407
CREATED:20251126T190815Z
LAST-MODIFIED:20251126T190815Z
UID:250455-1766016000-1766102399@nolf1.bhncdsb.ca
SUMMARY:Christmas Character Day
DESCRIPTION:
URL:https://nolf1.bhncdsb.ca/event/christmas-character-day/
END:VEVENT
BEGIN:VEVENT
DTSTART;VALUE=DATE:20251217
DTEND;VALUE=DATE:20251218
DTSTAMP:20260422T180407
CREATED:20251126T190751Z
LAST-MODIFIED:20251126T190751Z
UID:250453-1765929600-1766015999@nolf1.bhncdsb.ca
SUMMARY:Red/Green Day
DESCRIPTION:
URL:https://nolf1.bhncdsb.ca/event/red-green-day/
END:VEVENT
BEGIN:VEVENT
DTSTART;TZID=America/Toronto:20251216T123000
DTEND;TZID=America/Toronto:20251216T130000
DTSTAMP:20260422T180407
CREATED:20251126T191513Z
LAST-MODIFIED:20251126T191513Z
UID:250469-1765888200-1765890000@nolf1.bhncdsb.ca
SUMMARY:Kelsey's
DESCRIPTION:
URL:https://nolf1.bhncdsb.ca/event/kelseys-42/
END:VEVENT
BEGIN:VEVENT
DTSTART;VALUE=DATE:20251216
DTEND;VALUE=DATE:20251217
DTSTAMP:20260422T180407
CREATED:20251126T190652Z
LAST-MODIFIED:20251126T190652Z
UID:250449-1765843200-1765929599@nolf1.bhncdsb.ca
SUMMARY:Christmas Sweater Day
DESCRIPTION:
URL:https://nolf1.bhncdsb.ca/event/christmas-sweater-day/
END:VEVENT
BEGIN:VEVENT
DTSTART;TZID=America/Toronto:20251216T000000
DTEND;TZID=America/Toronto:20251216T000000
DTSTAMP:20260422T180407
CREATED:20251126T190730Z
LAST-MODIFIED:20251126T190730Z
UID:250451-1765843200-1765843200@nolf1.bhncdsb.ca
SUMMARY:Food Orders Due for January
DESCRIPTION:
URL:https://nolf1.bhncdsb.ca/event/food-orders-due-for-january/
END:VEVENT
BEGIN:VEVENT
DTSTART;TZID=America/Toronto:20251215T130000
DTEND;TZID=America/Toronto:20251215T140000
DTSTAMP:20260422T180407
CREATED:20251126T190456Z
LAST-MODIFIED:20251126T190456Z
UID:250441-1765803600-1765807200@nolf1.bhncdsb.ca
SUMMARY:DARE with OPP Gr. 5-8
DESCRIPTION:
URL:https://nolf1.bhncdsb.ca/event/dare-with-opp-gr-5-8-3/
END:VEVENT
BEGIN:VEVENT
DTSTART;TZID=America/Toronto:20251215T123000
DTEND;TZID=America/Toronto:20251215T130000
DTSTAMP:20260422T180407
CREATED:20251126T190416Z
LAST-MODIFIED:20251126T190416Z
UID:250438-1765801800-1765803600@nolf1.bhncdsb.ca
SUMMARY:Chicken Noodle Soup/Chili Lunch
DESCRIPTION:
URL:https://nolf1.bhncdsb.ca/event/chicken-noodle-soup-chili-lunch/
END:VEVENT
BEGIN:VEVENT
DTSTART;VALUE=DATE:20251215
DTEND;VALUE=DATE:20251216
DTSTAMP:20260422T180407
CREATED:20251126T190547Z
LAST-MODIFIED:20251126T190547Z
UID:250445-1765756800-1765843199@nolf1.bhncdsb.ca
SUMMARY:Christmas Giving Campaign Ends
DESCRIPTION:
URL:https://nolf1.bhncdsb.ca/event/christmas-giving-campaign-ends-2/
END:VEVENT
BEGIN:VEVENT
DTSTART;VALUE=DATE:20251215
DTEND;VALUE=DATE:20251216
DTSTAMP:20260422T180407
CREATED:20251126T190519Z
LAST-MODIFIED:20251126T190519Z
UID:250443-1765756800-1765843199@nolf1.bhncdsb.ca
SUMMARY:Christmas Hat Day
DESCRIPTION:
URL:https://nolf1.bhncdsb.ca/event/christmas-hat-day-2/
END:VEVENT
BEGIN:VEVENT
DTSTART;VALUE=DATE:20251212
DTEND;VALUE=DATE:20251213
DTSTAMP:20260422T180407
CREATED:20251126T184800Z
LAST-MODIFIED:20251126T184818Z
UID:250435-1765497600-1765583999@nolf1.bhncdsb.ca
SUMMARY:Colour Day
DESCRIPTION:
URL:https://nolf1.bhncdsb.ca/event/pizza-43/
END:VEVENT
BEGIN:VEVENT
DTSTART;TZID=America/Toronto:20251211T183000
DTEND;TZID=America/Toronto:20251211T193000
DTSTAMP:20260422T180407
CREATED:20251126T191312Z
LAST-MODIFIED:20251126T191312Z
UID:250467-1765477800-1765481400@nolf1.bhncdsb.ca
SUMMARY:Christmas Concert
DESCRIPTION:
URL:https://nolf1.bhncdsb.ca/event/christmas-concert/
LOCATION:Courtland Community Centre\, 272 Main Street\, Courtland\, Ontario\, N0J 1E0\, Canada
END:VEVENT
BEGIN:VEVENT
DTSTART;TZID=America/Toronto:20251211T123000
DTEND;TZID=America/Toronto:20251211T130000
DTSTAMP:20260422T180407
CREATED:20251126T191217Z
LAST-MODIFIED:20251126T191217Z
UID:250465-1765456200-1765458000@nolf1.bhncdsb.ca
SUMMARY:Pizza
DESCRIPTION:
URL:https://nolf1.bhncdsb.ca/event/pizza-45/
END:VEVENT
BEGIN:VEVENT
DTSTART;TZID=America/Toronto:20251210T123000
DTEND;TZID=America/Toronto:20251210T130000
DTSTAMP:20260422T180407
CREATED:20251126T184731Z
LAST-MODIFIED:20251126T184731Z
UID:250433-1765369800-1765371600@nolf1.bhncdsb.ca
SUMMARY:Christmas Luncheon
DESCRIPTION:
URL:https://nolf1.bhncdsb.ca/event/christmas-luncheon/
END:VEVENT
BEGIN:VEVENT
DTSTART;TZID=America/Toronto:20251209T123000
DTEND;TZID=America/Toronto:20251209T130000
DTSTAMP:20260422T180407
CREATED:20251126T184423Z
LAST-MODIFIED:20251126T184423Z
UID:250431-1765283400-1765285200@nolf1.bhncdsb.ca
SUMMARY:Kelsey's
DESCRIPTION:
URL:https://nolf1.bhncdsb.ca/event/kelseys-41/
END:VEVENT
BEGIN:VEVENT
DTSTART;TZID=America/Toronto:20251208T130000
DTEND;TZID=America/Toronto:20251208T140000
DTSTAMP:20260422T180407
CREATED:20251126T184348Z
LAST-MODIFIED:20251126T184348Z
UID:250429-1765198800-1765202400@nolf1.bhncdsb.ca
SUMMARY:DARE with OPP Gr. 5-8
DESCRIPTION:
URL:https://nolf1.bhncdsb.ca/event/dare-with-opp-gr-5-8-2/
END:VEVENT
BEGIN:VEVENT
DTSTART;TZID=America/Toronto:20251208T123000
DTEND;TZID=America/Toronto:20251208T130000
DTSTAMP:20260422T180407
CREATED:20251126T184308Z
LAST-MODIFIED:20251126T184308Z
UID:250427-1765197000-1765198800@nolf1.bhncdsb.ca
SUMMARY:Spaghetti Lunch
DESCRIPTION:
URL:https://nolf1.bhncdsb.ca/event/spaghetti-lunch-11/
END:VEVENT
BEGIN:VEVENT
DTSTART;TZID=America/Toronto:20251205T133000
DTEND;TZID=America/Toronto:20251205T143000
DTSTAMP:20260422T180407
CREATED:20251126T184129Z
LAST-MODIFIED:20251126T184129Z
UID:250425-1764941400-1764945000@nolf1.bhncdsb.ca
SUMMARY:Advent Mass @ OLOF
DESCRIPTION:
URL:https://nolf1.bhncdsb.ca/event/advent-mass-olof/
END:VEVENT
BEGIN:VEVENT
DTSTART;TZID=America/Toronto:20251205T103000
DTEND;TZID=America/Toronto:20251205T110000
DTSTAMP:20260422T180407
CREATED:20251126T184031Z
LAST-MODIFIED:20251126T184031Z
UID:250423-1764930600-1764932400@nolf1.bhncdsb.ca
SUMMARY:Confessions
DESCRIPTION:
URL:https://nolf1.bhncdsb.ca/event/confessions/
END:VEVENT
BEGIN:VEVENT
DTSTART;TZID=America/Toronto:20251204T123000
DTEND;TZID=America/Toronto:20251204T130000
DTSTAMP:20260422T180407
CREATED:20251126T183815Z
LAST-MODIFIED:20251126T183815Z
UID:250421-1764851400-1764853200@nolf1.bhncdsb.ca
SUMMARY:Pizza
DESCRIPTION:
URL:https://nolf1.bhncdsb.ca/event/pizza-42/
END:VEVENT
END:VCALENDAR